BEGIN:VCALENDAR
VERSION:2.0
PRODID:-//HUB-IN - ECPv6.11.2//NONSGML v1.0//EN
CALSCALE:GREGORIAN
METHOD:PUBLISH
X-ORIGINAL-URL:https://hubin.abmee.ro
X-WR-CALDESC:Events for HUB-IN
REFRESH-INTERVAL;VALUE=DURATION:PT1H
X-Robots-Tag:noindex
X-PUBLISHED-TTL:PT1H
BEGIN:VTIMEZONE
TZID:UTC
BEGIN:STANDARD
TZOFFSETFROM:+0000
TZOFFSETTO:+0000
TZNAME:UTC
DTSTART:20210101T000000
END:STANDARD
END:VTIMEZONE
BEGIN:VEVENT
DTSTART;TZID=UTC:20220117T150000
DTEND;TZID=UTC:20220117T180000
DTSTAMP:20260419T232119
CREATED:20211217T134338Z
LAST-MODIFIED:20211217T153808Z
UID:694-1642431600-1642442400@hubin.abmee.ro
SUMMARY:Three key questions on culture/cultural heritage and climate change
DESCRIPTION:An international round table to discuss different approaches and perspectives on the relationship between climate change and culture/cultural heritage: a thorny as much as a relevant topic\, at a crossroad of different fields of research. \nSix keynote speakers from diverse disciplines and geographical areas – all of them leading actors involved in the discourse of climate change and culture/cultural Heritage – are invited to answer the same three key questions about different aspects of this topic and to debate the best strategy to talk about climate change and spread awareness on the effects of climate change on cultural heritage. Answers might start an interesting dialogue between different professional views and different disciplines. \nThis appointment is part of Urban Agenda\, in which the Fondazione Scuola dei beni e delle attività culturali supports the Italian Ministry of culture with a focus on climate change and cultural heritage in the urban landscape. \nHUB-IN experts contributed to this event \nTo participate\, please register to their e-learning platform here
URL:https://hubin.abmee.ro/event/three-key-questions-on-culture-cultural-heritage-and-climate-change/
LOCATION:Online
ATTACH;FMTTYPE=image/jpeg:https://hubin.abmee.ro/wp-content/uploads/2021/12/agenda-urbana-save-the-date-2048x1531-1.jpg
END:VEVENT
BEGIN:VEVENT
DTSTART;VALUE=DATE:20211202
DTEND;VALUE=DATE:20211204
DTSTAMP:20260419T232119
CREATED:20211124T131207Z
LAST-MODIFIED:20211217T150010Z
UID:602-1638403200-1638575999@hubin.abmee.ro
SUMMARY:ILUCIDARE Playground
DESCRIPTION:The event will focus on the multiplicity of stakeholders – individual citizens\, communities\, NGOs\, foundations\, entrepreneurs\, researchers – who have a big role to play in innovation and international relations when it comes to preserving and promoting heritage. The Playground will bring these voices to the fore to debate\, share practices and come together in the ILUCIDARE network. \nYou will find us at the virtual booth on 2 December from 14:00 to 17:00 and on 3 December from 11:30 to 12:30 and from 13:00 to 14:00. \nMore information is available on the website of the event
URL:https://hubin.abmee.ro/event/ilucidare-playground/
CATEGORIES:Culture & Creativity,Entrepreneurship & Innovation,Sustainability
ATTACH;FMTTYPE=image/png:https://hubin.abmee.ro/wp-content/uploads/2021/11/ILUCIDARE.png
END:VEVENT
BEGIN:VEVENT
DTSTART;TZID=UTC:20211116T120000
DTEND;TZID=UTC:20211116T130000
DTSTAMP:20260419T232119
CREATED:20211014T144321Z
LAST-MODIFIED:20211014T144916Z
UID:583-1637064000-1637067600@hubin.abmee.ro
SUMMARY:Future Tuesdays Presents the HUB-IN project
DESCRIPTION:Future Screens NI – R&D for the Creative Industries in Northern Ireland – organise one of its “Future Tuesdays” on the HUB-IN project in Belfast. \nHosted by: Andrea Thornbury (Belfast City Council Project Manager) and Kerrie Sweeney (CEO of Belfast Maritime Trust) \nThe event will also feature Michael McGlade from Yellow Design. \nAndrea Thornbury is the Project Manager for Belfast City Council. Andrea was the Research Officer for Northern Ireland Council for Voluntary Action (NIVCA) for 13 years and Project Coordinator for the Open Data Institute (ODI) Belfast Team for 3 years. \nKerrie Sweeney is CEO of Belfast Maritime Trust with over twenty years’ experience of working in the tourism sector. Kerrie’s experience includes ten years between Belfast City Council and the Northern Ireland Tourist Board\, where she was a member of the team that put together the plans for the Titanic Signature Project. \nMichael McGlade is Founder & Creative Director of Yellow Design. Michael has over 25 years’ experience in the field of branding and digital video. Yellow Design is a Belfast-based design company with expertise in branding\, print exhibition design\, digital and Expanded Reality technologyincluding the Titanic—Back in Belfast AR experience. \nFind out more about Future Screens NI here. \nIn person tickets for this event are found here.
URL:https://hubin.abmee.ro/event/future-tuesdays-presents-the-hub-in-project/
LOCATION:Online
CATEGORIES:Belfast,Culture & Creativity,Entrepreneurship & Innovation
ATTACH;FMTTYPE=image/jpeg:https://hubin.abmee.ro/wp-content/uploads/2021/05/Belfast_Maritime_Mile-1.jpg
END:VEVENT
BEGIN:VEVENT
DTSTART;TZID=UTC:20211019T090000
DTEND;TZID=UTC:20211019T153000
DTSTAMP:20260419T232119
CREATED:20211008T134515Z
LAST-MODIFIED:20211008T134515Z
UID:576-1634634000-1634657400@hubin.abmee.ro
SUMMARY:OKOLJSKO SREČANJE 2021
DESCRIPTION:Environmental Meeting 2021\nThe purpose of the conference is to show the business community in Slovenia the main guidelines and trends in the field of environmental management\, with special emphasis on the presentation of examples of good practice. \nThis year’s environmental meeting will be entitled ” Advanced Environmental Project  – Success Factors and Adaptation to Climate Change” .  \nThe HUB-IN project will be presented in one of the sessions \n*Event in Slovenian only*
URL:https://hubin.abmee.ro/event/okoljsko-srecanje-2021/
LOCATION:Grand Hotel Union\, Ljubljana\, Slovenia
CATEGORIES:Entrepreneurship & Innovation,Slovenska Bistrica,Sustainability
ATTACH;FMTTYPE=image/jpeg:https://hubin.abmee.ro/wp-content/uploads/2021/10/750-x-500_OKOLJSKO-SRECANJE_1910_2021.jpg
END:VEVENT
BEGIN:VEVENT
DTSTART;VALUE=DATE:20210904
DTEND;VALUE=DATE:20210906
DTSTAMP:20260419T232119
CREATED:20210901T092026Z
LAST-MODIFIED:20210901T122056Z
UID:480-1630713600-1630886399@hubin.abmee.ro
SUMMARY:Belfast Maritime Weekender
DESCRIPTION:Come on in for a weekend of ‘mini moments’ along the Maritime Mile in Belfast on 4 and 5 September and find out more about the Belfast HUB-IN project. This ambitious project aims to create a dynamic maritime destination where preservation of heritage complements regeneration. Our staff will be based at the Lord Pirrie Office at the Titanic Hotel but you will also find us at a range of activities and events that weekend. \nThe Maritime Weekender has been designed with space and safety in mind\, pockets of exciting nautical activities will stretch across the entire Maritime Mile\, with something for everyone to enjoy. \nThere are no tall ships but Belfast’s City Council will welcome a host of visiting vessels and boats to the quayside. Climb aboard and learn a little more about life at sea and maybe get a chance to meet some of the crew. Visit Irish Lights vessel ILV Granuaile or the 1960s old style tug boat ‘Brocklebank’ or catch a glimpse of some on-the-water displays and demo racing. \nOther daytime and evening activities include: \n\nlive music and dance\nnautical themed street performers and shows\nplayful art and heritage installations\ndance picnics for children\nwalking and cycle tours\na treasure trail\na pop-up market on the Slipways\, open until 8pm\nlights and illumination (8pm until 11pm)\n\nMost events are free so you can dip in and out at your leisure. But there are some tours and music events that aren’t free and need to be booked. For event information or to book events\, go to Belfast Maritimer Weekender. Download the weekender map here.
URL:https://hubin.abmee.ro/event/belfast-maritime-weekender/
LOCATION:Maritime Mile\, Belfast\, United Kingdom
CATEGORIES:Belfast,Culture & Creativity
ATTACH;FMTTYPE=image/jpeg:https://hubin.abmee.ro/wp-content/uploads/2021/09/Belfast-Maritime-Weekender.jpg
END:VEVENT
BEGIN:VEVENT
DTSTART;VALUE=DATE:20210902
DTEND;VALUE=DATE:20210907
DTSTAMP:20260419T232119
CREATED:20210720T165515Z
LAST-MODIFIED:20210729T070641Z
UID:428-1630540800-1630972799@hubin.abmee.ro
SUMMARY:GenovaJeans
DESCRIPTION:Starting from 2021 Genoa will celebrate jeans through art\, fashion\, music\, and cinema\, with a rich programme of conferences devoted to sustainability and market initiatives spread all over the territory\, able to involve a varied audience of all ages\, from baby-boomers to gamers and millennials. \nGenovaJeans will be a large\, young\, fun\, and captivating event\, aimed at highlighting the role of Genoa and Italy in the birth and development of the world’s most popular garment\, an icon of Pop culture.
URL:https://hubin.abmee.ro/event/genovajeans/
LOCATION:Genova\, Multiple places\, Genova\, Italy
CATEGORIES:Culture & Creativity,Entrepreneurship & Innovation,Genova,Sustainability
ATTACH;FMTTYPE=image/png:https://hubin.abmee.ro/wp-content/uploads/2021/07/GenovaJeans-event-e1626801433693.png
ORGANIZER;CN="GenovaJeans":MAILTO:segreteria@genovajeans.it
END:VEVENT
BEGIN:VEVENT
DTSTART;TZID=UTC:20210601T100000
DTEND;TZID=UTC:20211031T163000
DTSTAMP:20260419T232119
CREATED:20210902T093239Z
LAST-MODIFIED:20210902T100636Z
UID:503-1622541600-1635697800@hubin.abmee.ro
SUMMARY:Ledra Palace: Dancing on the Line
DESCRIPTION:If we could think of a building that best represents the impressive development of modernity in Cyprus and\, at the same time\, the turbulent recent history of the island\, that would undoubtedly be the Ledra Palace Hotel in Nicosia. The Ledra Palace embodies and exemplifies the cosmopolitan and multicultural character of the city\, while its own history simultaneously reflects the social and political developments on the island. \nThe exhibition Ledra Palace: Dancing on the Line\, organised by the Leventis Municipal Museum of Nicosia and the CYENS Centre of Excellence\, explores this ‘palace-like’ hotel as a place of memory\, history\, culture and politics and invites the visitor to see the hotel through the eyes of various protagonists: guests\, employees\, architects\, artists\, soldiers\, United Nations staff and many others. \nIn the Temporary Exhibitions Room of the Museum\, exhibits\, memories and stories of people who lived in or have personal experiences of the Ledra Palace relate\, on the one hand\, the adventurous recent history of the island and\, on the other\, reveal modernity in Cyprus. The exhibition aims to ‘revive’ the history of the Ledra Palace in a multivocal and multidimensional way and\, through this story\, to induce the visitor to discuss the modern events of Cyprus. In parallel\, it aspires to honour Nicosia\, as well as to demonstrate modernity in Cyprus. The history of the Ledra Palace unfolds another narrative: that of modernism and an intense\, cosmopolitan social life. Oral testimonies\, in combination with private photographs and objects\, take the lead in this process. The exhibition is not confined to the ‘golden era’ of the Ledra Palace as a hotel or to its interesting social history\, but it spans from the establishment of the hotel until today\, proving that the personal\, the social and the political are always interconnected. \nGet a preview of the exhibition here \nRead the press release here \nSponsors: \n\nG. Leventis Foundation\nThe CYENS Centre of Excellence has received funding from the European Union’s Horizon 2020 research and innovation programme under grant agreement no. 739578; this project has also received funding from the Government of the Republic of Cyprus through the Deputy Ministry of Research\, Innovation and Digital Policy.\n\nSupporters: Ledra Palace Hotel PLC\, CyBC\, Press and Information Office\, Association of Friends of the Leventis Municipal Museum of Nicosia and the A. G. Leventis Gallery\, Nicosia Municipality\, Cyprus University of Technology
URL:https://hubin.abmee.ro/event/ledra-palace-dancing-on-the-line/
LOCATION:Leventis Municipal Museum\, 15-17 Ippokratous St\, Laiki Geitonia\, Nicosia\, 1011\, Cyprus
CATEGORIES:Culture & Creativity,Nicosia
ATTACH;FMTTYPE=image/jpeg:https://hubin.abmee.ro/wp-content/uploads/2021/09/Ledra-Palace-scaled.jpg
END:VEVENT
END:VCALENDAR